1.5625
0
0
-1.5625
251730.246024
590947.961642
