1.5625
0
0
-1.5625
201931.937024
462595.048638
