1.5625
0
0
-1.5625
249729.584024
575863.309787
