1.5625
0
0
-1.5625
177844.041024
476479.749657
