1.5625
0
0
-1.5625
166769.825024
413099.86161
