1.5625
0
0
-1.5625
107385.706024
507640.354406
