1.5625
0
0
-1.5625
185644.777024
480602.092236
