1.5625
0
0
-1.5625
180464.365024
438667.885642
