1.5625
0
0
-1.5625
254239.798024
543345.908579
