1.5625
0
0
-1.5625
146472.676024
422488.405528
