1.5625
0
0
-1.5625
207680.637024
384686.452803
