1.5625
0
0
-1.5625
175642.263024
419873.701764
