1.5625
0
0
-1.5625
193430.946024
448957.303665
