1.5625
0
0
-1.5625
104254.302024
496520.799602
