1.5625
0
0
-1.5625
193130.353024
397385.239437
