1.5625
0
0
-1.5625
144273.941024
385123.874311
