1.5625
0
0
-1.5625
130850.271024
446430.255969
