1.5625
0
0
-1.5625
218116.190024
512400.773197
