1.5625
0
0
-1.5625
267323.265024
565498.189894
