1.5625
0
0
-1.5625
165740.113024
470477.071295
