1.5625
0
0
-1.5625
237116.199024
447491.833063
