1.5625
0
0
-1.5625
189171.298024
598202.501697
