1.5625
0
0
-1.5625
256240.816024
589358.433169
