1.5625
0
0
-1.5625
169692.721024
446186.384524
