1.5625
0
0
-1.5625
128222.323024
510521.701886
