1.5625
0
0
-1.5625
212620.149024
565439.08074
