1.5625
0
0
-1.5625
122255.116024
415338.656815
