1.5625
0
0
-1.5625
212974.805024
549588.757059
