1.5625
0
0
-1.5625
187020.330024
478007.281472
