1.5625
0
0
-1.5625
105560.194024
426733.982528
