1.5625
0
0
-1.5625
208207.215024
485553.798736
