1.5625
0
0
-1.5625
114299.489024
510131.674197
