1.5625
0
0
-1.5625
193310.910024
444083.027409
