1.5625
0
0
-1.5625
164341.626024
560480.948819
