1.5625
0
0
-1.5625
102645.622024
472525.349996
