1.5625
0
0
-1.5625
129130.828024
556641.915209
