1.5625
0
0
-1.5625
145680.187024
446064.942291
