1.5625
0
0
-1.5625
204657.599024
566600.501953
