1.5625
0
0
-1.5625
179022.571024
409723.34063
