1.5625
0
0
-1.5625
249887.553024
569105.270547
