1.5625
0
0
-1.5625
205654.980024
543539.523764
