1.5625
0
0
-1.5625
84985.6850236
414175.630323
