1.5625
0
0
-1.5625
229520.015024
572701.310114
