1.5625
0
0
-1.5625
188979.037024
332733.507807
