1.5625
0
0
-1.5625
240051.319024
445951.834484
