1.5625
0
0
-1.5625
248062.593024
442892.549791
