1.5625
0
0
-1.5625
242083.870024
442291.212031
