1.5625
0
0
-1.5625
39780.4420236
402997.015465
