1.5625
0
0
-1.5625
157706.736024
570622.340457
