1.5625
0
0
-1.5625
214184.411024
540051.887067
